BEGIN:VCALENDAR
VERSION:2.0
PRODID:-//eventon.com NONSGML v1.0//EN
CALSCALE:GREGORIAN
METHOD:PUBLISH
BEGIN:VEVENT
UID:69e742f1de350
DTSTAMP:20260421T092713Z
DTSTART:20260617
DTEND:20260618
LOCATION:
SUMMARY:SHINGO CULTURAL ENABLERS
DESCRIPTION:\nhttps://pxsglobal.com/en/events/sea/
URL:https://pxsglobal.com/en/events/sea/
END:VEVENT
END:VCALENDAR