BEGIN:VCALENDAR
VERSION:2.0
PRODID:-//eventon.com NONSGML v1.0//EN
CALSCALE:GREGORIAN
METHOD:PUBLISH
BEGIN:VEVENT
UID:69e5fe1f15128
DTSTAMP:20260420T102119Z
DTSTART:20260219T000000Z
DTEND:20260219T055900Z
LOCATION:
SUMMARY:EXCEL TOTAL
DESCRIPTION:EXCEL TOTAL\nhttps://pxsglobal.com/en/events/excel-total/
URL:https://pxsglobal.com/en/events/excel-total/
END:VEVENT
END:VCALENDAR