BEGIN:VCALENDAR
VERSION:2.0
PRODID:-//eventon.com NONSGML v1.0//EN
CALSCALE:GREGORIAN
METHOD:PUBLISH
BEGIN:VEVENT
UID:69e50676f1570
DTSTAMP:20260419T164438Z
DTSTART:20250128T000000Z
DTEND:20250128T055000Z
LOCATION:
SUMMARY:PBI
DESCRIPTION:\nhttps://pxsglobal.com/es/events/pbi/
URL:https://pxsglobal.com/es/events/pbi/
END:VEVENT
END:VCALENDAR