BEGIN:VCALENDAR
VERSION:2.0
PRODID:-//eventon.com NONSGML v1.0//EN
CALSCALE:GREGORIAN
METHOD:PUBLISH
BEGIN:VEVENT
UID:69e7419425876
DTSTAMP:20260421T092124Z
DTSTART:20250513T000000Z
DTEND:20250513T055000Z
LOCATION:
SUMMARY:CSPO
DESCRIPTION:\nhttps://pxsglobal.com/es/events/cspo/
URL:https://pxsglobal.com/es/events/cspo/
END:VEVENT
END:VCALENDAR